BEGIN:VCALENDAR
VERSION:2.0
PRODID:SchoolNow
CALSCALE:GREGORIAN
BEGIN:VEVENT
UID:27d210e8-c1c4-11ee-a7d9-0a627ce6cd05
DTSTAMP:20240202T141222Z
SUMMARY:9th Annual Chancellor's Scholarship Breakfast
LOCATION:Benedict's in Mandeville
URL;VALUE=URI:https://www.northshorecollege.edu/advancement/calendar/524640
 8/9th-annual-chancellors-scholarship-breakfast
DTSTART:20240328T130000Z
DTEND:20240328T143000Z
END:VEVENT
END:VCALENDAR
