BEGIN:VCALENDAR
VERSION:2.0
PRODID:SchoolNow
CALSCALE:GREGORIAN
BEGIN:VEVENT
UID:38219e76-7b39-11ef-ae37-0e68befffa43
DTSTAMP:20240925T124423Z
SUMMARY:6th Annual Gator Tail 5k Trail Run
LOCATION:NTCC Lacombe Campus\, 65556 Centerpoint Blvd.
URL;VALUE=URI:https://www.northshorecollege.edu/advancement/calendar/668717
 2/6th-annual-gator-tail-5k-trail-run
DTSTART:20241102T123000Z
DTEND:20241102T210000Z
ATTACH;FILENAME=2024 Gator Tail Logo.png;FMTTYPE=image/png:https://campussu
 ite-storage.s3.amazonaws.com/prod/1558527/b8284a7c-b2b7-11e7-934d-0ad27657
 f4d8/2838600/5dd9cdd0-64a7-11ef-9e8b-0affebce799b/file/2024 Gator Tail Log
 o.png
END:VEVENT
END:VCALENDAR
