BEGIN:VCALENDAR
VERSION:2.0
PRODID:SchoolNow
CALSCALE:GREGORIAN
BEGIN:VEVENT
UID:ca717a2e-7b3b-11ef-a0d5-0e82f8d811c3
DTSTAMP:20240925T124340Z
SUMMARY:Health Care Career Fair
LOCATION:NTCC Lacombe Campus\, 65556 Centerpoint Blvd.
URL;VALUE=URI:https://www.northshorecollege.edu/advancement/calendar/668717
 4/health-care-career-fair
DTSTART:20241029T170000Z
DTEND:20241029T200000Z
ATTACH;FILENAME=HealthcareCareerFair 10 29 2024.pdf;FMTTYPE=application/pdf
 :https://campussuite-storage.s3.amazonaws.com/prod/1558527/b8284a7c-b2b7-1
 1e7-934d-0ad27657f4d8/2852853/a2d32e18-7b3b-11ef-8273-0e68befffa43/file/He
 althcareCareerFair 10 29 2024.pdf
END:VEVENT
END:VCALENDAR
