BEGIN:VCALENDAR
VERSION:2.0
PRODID:SchoolNow
CALSCALE:GREGORIAN
BEGIN:VEVENT
UID:74f0cdf6-7b3c-11ef-ac7b-0a58a9feac02
DTSTAMP:20240925T124826Z
SUMMARY:Northshore Manufacturing Day
LOCATION:NTCC Lacombe Campus\, 65556 Centerpoint Blvd.
URL;VALUE=URI:https://www.northshorecollege.edu/advancement/calendar/668717
 5/northshore-manufacturing-day
DTSTART:20241004T163000Z
DTEND:20241004T200000Z
ATTACH;FILENAME=Manufacturing Day Flyer.pdf;FMTTYPE=application/pdf:https:/
 /campussuite-storage.s3.amazonaws.com/prod/1558527/b8284a7c-b2b7-11e7-934d
 -0ad27657f4d8/2852856/5ef0fe18-7b3c-11ef-b41c-0a58a9feac02/file/Manufactur
 ing Day Flyer.pdf
END:VEVENT
END:VCALENDAR
