BEGIN:VCALENDAR
VERSION:2.0
PRODID:SchoolNow
CALSCALE:GREGORIAN
BEGIN:VEVENT
UID:7811dd36-3b4c-11ed-a51e-0ef5312cfa59
DTSTAMP:20221027T191343Z
SUMMARY:Healthcare Career Fair
LOCATION:Lacombe Campus
URL;VALUE=URI:https://www.northshorecollege.edu/calendar/3434416/healthcare
 -career-fair
DTSTART:20221109T160000Z
DTEND:20221109T190000Z
END:VEVENT
END:VCALENDAR
