BEGIN:VCALENDAR
VERSION:2.0
PRODID:SchoolNow
CALSCALE:GREGORIAN
BEGIN:VEVENT
UID:84dbd750-b635-11ee-91f8-0abea27433a9
DTSTAMP:20240131T194222Z
SUMMARY:FAFSA Frenzy
LOCATION:Hammond Area Campus
URL;VALUE=URI:https://www.northshorecollege.edu/calendar/5174445/fafsa-fren
 zy
DTSTART:20240205T230000Z
DTEND:20240206T010000Z
END:VEVENT
END:VCALENDAR
