BEGIN:VCALENDAR
VERSION:2.0
PRODID:SchoolNow
CALSCALE:GREGORIAN
BEGIN:VEVENT
UID:2b9a2178-b636-11ee-9875-0ac6e4e8b0b1
DTSTAMP:20240118T191707Z
SUMMARY:Black History Month Lunch-n-Learn
LOCATION:Lacombe Campus
URL;VALUE=URI:https://www.northshorecollege.edu/calendar/5174446/black-hist
 ory-month-lunch-n-learn
DTSTART:20240226T180000Z
DTEND:20240226T190000Z
END:VEVENT
END:VCALENDAR
