BEGIN:VCALENDAR
VERSION:2.0
PRODID:SchoolNow
CALSCALE:GREGORIAN
BEGIN:VEVENT
UID:895a413a-b636-11ee-a24c-0a705a7259c1
DTSTAMP:20240118T191944Z
SUMMARY:High School Small Engines Competition
LOCATION:Sullivan Campus
URL;VALUE=URI:https://www.northshorecollege.edu/calendar/5174447/high-schoo
 l-small-engines-competition
DTSTART;VALUE=DATE:20240229
DTEND;VALUE=DATE:20240301
END:VEVENT
END:VCALENDAR
