BEGIN:VCALENDAR
VERSION:2.0
PRODID:SchoolNow
CALSCALE:GREGORIAN
BEGIN:VEVENT
UID:3438b6c2-b637-11ee-b358-0a58a9feac02
DTSTAMP:20240118T192527Z
SUMMARY:Community College Week
LOCATION:Lacombe\, Livingston\, Sullivan\, Florida Parishes and Hammond Are
 a Campuses
URL;VALUE=URI:https://www.northshorecollege.edu/calendar/5175327/community-
 college-week
DTSTART;VALUE=DATE:20240408
DTEND;VALUE=DATE:20240413
END:VEVENT
END:VCALENDAR
