BEGIN:VCALENDAR
VERSION:2.0
PRODID:SchoolNow
CALSCALE:GREGORIAN
BEGIN:VEVENT
UID:a835bc26-c070-11ee-ae1e-0a4efb4470e7
DTSTAMP:20240131T194058Z
SUMMARY:FAFSA Frenzy
LOCATION:Lacombe Campus
URL;VALUE=URI:https://www.northshorecollege.edu/calendar/5236944/fafsa-fren
 zy
DTSTART:20240205T220000Z
DTEND:20240206T000000Z
END:VEVENT
END:VCALENDAR
