BEGIN:VCALENDAR
VERSION:2.0
PRODID:SchoolNow
CALSCALE:GREGORIAN
BEGIN:VEVENT
UID:c8d610f2-c070-11ee-bf38-0aab6f4ff24d
DTSTAMP:20240131T194153Z
SUMMARY:FAFSA Frenzy
LOCATION:Livingston Campus
URL;VALUE=URI:https://www.northshorecollege.edu/calendar/5236945/fafsa-fren
 zy
DTSTART:20240206T220000Z
DTEND:20240207T000000Z
END:VEVENT
END:VCALENDAR
