BEGIN:VCALENDAR
VERSION:2.0
PRODID:SchoolNow
CALSCALE:GREGORIAN
BEGIN:VEVENT
UID:fedbf608-c070-11ee-9ba3-0ea45561ddeb
DTSTAMP:20240131T194323Z
SUMMARY:FAFSA Frenzy
LOCATION:Florida Parishes Campus
URL;VALUE=URI:https://www.northshorecollege.edu/calendar/5236946/fafsa-fren
 zy
DTSTART:20240207T213000Z
DTEND:20240207T233000Z
END:VEVENT
END:VCALENDAR
