BEGIN:VCALENDAR
VERSION:2.0
PRODID:SchoolNow
CALSCALE:GREGORIAN
BEGIN:VEVENT
UID:31fd6706-c071-11ee-93c2-0a7b643a7863
DTSTAMP:20240131T194449Z
SUMMARY:FAFSA Frenzy
LOCATION:Sullivan Campus
URL;VALUE=URI:https://www.northshorecollege.edu/calendar/5236947/fafsa-fren
 zy
DTSTART:20240208T220000Z
DTEND:20240209T000000Z
END:VEVENT
END:VCALENDAR
