BEGIN:VCALENDAR
VERSION:2.0
PRODID:SchoolNow
CALSCALE:GREGORIAN
BEGIN:VEVENT
UID:a072d1fe-daf6-11ee-b28c-0a58a9feac02
DTSTAMP:20240305T134718Z
SUMMARY:Technical Training and Trades Career Fair
LOCATION:Hammond Area Campus
URL;VALUE=URI:https://www.northshorecollege.edu/calendar/5469739/technical-
 training-and-trades-career-fair
DTSTART:20240313T150000Z
DTEND:20240313T180000Z
END:VEVENT
END:VCALENDAR
