BEGIN:VCALENDAR
VERSION:2.0
PRODID:SchoolNow
CALSCALE:GREGORIAN
BEGIN:VEVENT
UID:c67fd342-f90a-11ee-b6f2-0affdac7174f
DTSTAMP:20240412T202517Z
SUMMARY:Lineman Rodeo
LOCATION:7067 Hwy 10\, Greensburg\, LA 70441
URL;VALUE=URI:https://www.northshorecollege.edu/calendar/5768467/lineman-ro
 deo
DTSTART:20240504T130000Z
DTEND:20240504T210000Z
END:VEVENT
END:VCALENDAR
