BEGIN:VCALENDAR
VERSION:2.0
PRODID:SchoolNow
CALSCALE:GREGORIAN
BEGIN:VEVENT
UID:7e402b66-f90c-11ee-87b9-0a58a9feac02
DTSTAMP:20240412T203734Z
SUMMARY:Hammond Area Campus - Healthcare Career Fair
LOCATION:111 Pride Drive\, Hammond\, LA 70401
URL;VALUE=URI:https://www.northshorecollege.edu/calendar/5768469/hammond-ar
 ea-campus-healthcare-career-fair
DTSTART:20240425T180000Z
DTEND:20240425T200000Z
END:VEVENT
END:VCALENDAR
